BEGIN:VCALENDAR
VERSION:2.0
PRODID:-//Klima-Allianz Oberösterreich - ECPv6.15.13//NONSGML v1.0//EN
CALSCALE:GREGORIAN
METHOD:PUBLISH
X-WR-CALNAME:Klima-Allianz Oberösterreich
X-ORIGINAL-URL:https://klimaallianz-ooe.at
X-WR-CALDESC:Veranstaltungen für Klima-Allianz Oberösterreich
REFRESH-INTERVAL;VALUE=DURATION:PT1H
X-Robots-Tag:noindex
X-PUBLISHED-TTL:PT1H
BEGIN:VTIMEZONE
TZID:Europe/Paris
BEGIN:DAYLIGHT
TZOFFSETFROM:+0100
TZOFFSETTO:+0200
TZNAME:CEST
DTSTART:20250330T010000
END:DAYLIGHT
BEGIN:STANDARD
TZOFFSETFROM:+0200
TZOFFSETTO:+0100
TZNAME:CET
DTSTART:20251026T010000
END:STANDARD
BEGIN:DAYLIGHT
TZOFFSETFROM:+0100
TZOFFSETTO:+0200
TZNAME:CEST
DTSTART:20260329T010000
END:DAYLIGHT
BEGIN:STANDARD
TZOFFSETFROM:+0200
TZOFFSETTO:+0100
TZNAME:CET
DTSTART:20261025T010000
END:STANDARD
BEGIN:DAYLIGHT
TZOFFSETFROM:+0100
TZOFFSETTO:+0200
TZNAME:CEST
DTSTART:20270328T010000
END:DAYLIGHT
BEGIN:STANDARD
TZOFFSETFROM:+0200
TZOFFSETTO:+0100
TZNAME:CET
DTSTART:20271031T010000
END:STANDARD
END:VTIMEZONE
BEGIN:VEVENT
DTSTART;TZID=Europe/Paris:20260422T190000
DTEND;TZID=Europe/Paris:20260422T210000
DTSTAMP:20260422T091611
CREATED:20260419T155352Z
LAST-MODIFIED:20260419T155422Z
UID:5818-1776884400-1776891600@klimaallianz-ooe.at
SUMMARY:Informations- und Dikussionsabend "Verkommt das Steyrtal zur Transitroute?" (da.Huat.brennt)
DESCRIPTION:
URL:https://klimaallianz-ooe.at/event/informations-und-dikussionsabend-verkommt-das-steyrtal-zur-transitroute/
CATEGORIES:Unterstützer
END:VEVENT
END:VCALENDAR