BEGIN:VCALENDAR
VERSION:2.0
PRODID:-//Klima-Allianz Oberösterreich - ECPv6.15.13//NONSGML v1.0//EN
CALSCALE:GREGORIAN
METHOD:PUBLISH
X-WR-CALNAME:Klima-Allianz Oberösterreich
X-ORIGINAL-URL:https://klimaallianz-ooe.at
X-WR-CALDESC:Veranstaltungen für Klima-Allianz Oberösterreich
REFRESH-INTERVAL;VALUE=DURATION:PT1H
X-Robots-Tag:noindex
X-PUBLISHED-TTL:PT1H
BEGIN:VTIMEZONE
TZID:Europe/Paris
BEGIN:DAYLIGHT
TZOFFSETFROM:+0100
TZOFFSETTO:+0200
TZNAME:CEST
DTSTART:20250330T010000
END:DAYLIGHT
BEGIN:STANDARD
TZOFFSETFROM:+0200
TZOFFSETTO:+0100
TZNAME:CET
DTSTART:20251026T010000
END:STANDARD
BEGIN:DAYLIGHT
TZOFFSETFROM:+0100
TZOFFSETTO:+0200
TZNAME:CEST
DTSTART:20260329T010000
END:DAYLIGHT
BEGIN:STANDARD
TZOFFSETFROM:+0200
TZOFFSETTO:+0100
TZNAME:CET
DTSTART:20261025T010000
END:STANDARD
BEGIN:DAYLIGHT
TZOFFSETFROM:+0100
TZOFFSETTO:+0200
TZNAME:CEST
DTSTART:20270328T010000
END:DAYLIGHT
BEGIN:STANDARD
TZOFFSETFROM:+0200
TZOFFSETTO:+0100
TZNAME:CET
DTSTART:20271031T010000
END:STANDARD
END:VTIMEZONE
BEGIN:VEVENT
DTSTART;TZID=Europe/Paris:20260423T183000
DTEND;TZID=Europe/Paris:20260423T210000
DTSTAMP:20260423T013402
CREATED:20260406T185142Z
LAST-MODIFIED:20260406T190223Z
UID:5781-1776969000-1776978000@klimaallianz-ooe.at
SUMMARY:Vortag und Diskussion "Wirtschaft ohne Öl und Gas: Wie geht das?"
DESCRIPTION:Wege aus der fossilen Abhängigkeit\n\nWelche Technologien stehen bereits zur Verfügung?\nWelche Chancen ergeben sich für Oberösterreich?\nWie gelingt eine sichere\, erneuerbare Energiezukunft?\n\nVortrag von Dr. Erwin K. Reichel\, Scientists For Future | Klima-Allianz OÖ \nDikussion mit DI Martina Prechtl-Grundnig\, Erneuerbare Energie Österreich. \n\n\n\n\nWie kann Oberösterreich seine Wirtschaft Schritt für Schritt von fossilen Energieträgern unabhängig machen? Wesentliche Handlungsfelder\, technische Möglichkeiten und realistische Wege für eine sichere und erneuerbare Energiezukunft werden im Vortrag aufgezeigt. Die kompakte Einführung richtet sich an alle\, die einen klaren Überblick über Chancen\, Grenzen und notwendige Maßnahmen der Transformation erhalten möchten. \n\n\nDie aktuelle Energiekrise zeigt\, wie auch die früheren\, dass die Abhängigkeit der Wirtschaft von fossilen Energieträgern ein dauerhaftes Risiko darstellt. Obwohl es in einer Krise immer auch Chancen und Profiteure gibt\, sind vor allem Menschen ohne Vermögensreserven sehr stark betroffen. Der technologische Fortschritt bei der erneuerbaren Energieerzeugung bietet die Chance\, gegenüber globalen Krisen resilient zu werden. Ein Fossilausstieg ist unausweichlich\, er muss aber rasch und konsequent umgesetzt werden und darf nicht zu weiteren sozialen Verwerfungen führen. \nStand vor ein paar Jahren noch das Erreichen der international vereinbarten Klimaziele als Motivation hinter der Energiewende\, zeigen sich mittlerweile immer mehr wirtschaftliche und gesellschaftspolitische Vorteile. Der Übergang von der zentralistischen Energieerzeugung hin zu einer verteilten stellt unser Gesellschafts- und Wirtschaftssystem vor vielfältige Herausforderungen. Mit Elektrifizierung\, Energiegemeinschaften\, flexiblen Verbrauchern\, und intelligenten Speichersysteme kann diesen begegnet werden. \nweitere Infos uns https://www.forum-klimaschutz-gmunden.at/?page_id=3914
URL:https://klimaallianz-ooe.at/event/vortag-und-diskussion-2026-04-23/
LOCATION:Rathaus Gmunden\, Rathauspl. 1\, Gmunden\, OÖ\, 4810\, Austria
CATEGORIES:Mitglieder
ORGANIZER;CN="Forum f%C3%BCr Klimaschutz Gmunden":MAILTO:chris.auer99@gmail.com
END:VEVENT
END:VCALENDAR